Workbook

Sheet Produção Diária
A1: Data | B1: Código do produto | C1: Produto | D1: Unidade | E1: Quantidade planejada | F1: Quantidade produzida | G1: Quantidade aprovada | H1: Perdas | I1: Custo unitário | J1: Custo total | K1: Produtividade | L1: Índice de aproveitamento | M1: Status | N1: Observações
A2: 46266 | B2: P001 | C2: =IF(B2="","",IFERROR(VLOOKUP(B2,'Cadastro de Produtos'!$A$2:$E$101,2,FALSE),"Código não cadastrado")) | D2: =IF(B2="","",IFERROR(VLOOKUP(B2,'Cadastro de Produtos'!$A$2:$E$101,3,FALSE),"")) | E2: 100 | F2: 98 | G2: 96 | H2: =IF(OR(F2="",G2=""),"",MAX(0,F2-G2)) | I2: =IF(B2="","",IFERROR(VLOOKUP(B2,'Cadastro de Produtos'!$A$2:$E$101,5,FALSE),0)) | J2: =IF(OR(G2="",I2=""),"",IFERROR(G2*I2,0)) | K2: =IF(OR(E2="",E2=0,F2=""),"",IFERROR(F2/E2,0)) | L2: =IF(OR(F2="",F2=0,G2=""),"",IFERROR(G2/F2,0)) | M2: =IF(F2="","",IF(F2=0,"Sem produção",IF(IFERROR(G2/F2,0)>=0.98,"Excelente",IF(IFERROR(G2/F2,0)>=0.90,"Acompanhar","Ação necessária")))) | N2: demanda maior no almoço
A3: 46266 | B3: P002 | C3: =IF(B3="","",IFERROR(VLOOKUP(B3,'Cadastro de Produtos'!$A$2:$E$101,2,FALSE),"Código não cadastrado")) | D3: =IF(B3="","",IFERROR(VLOOKUP(B3,'Cadastro de Produtos'!$A$2:$E$101,3,FALSE),"")) | E3: 70 | F3: 69 | G3: 68 | H3: =IF(OR(F3="",G3=""),"",MAX(0,F3-G3)) | I3: =IF(B3="","",IFERROR(VLOOKUP(B3,'Cadastro de Produtos'!$A$2:$E$101,5,FALSE),0)) | J3: =IF(OR(G3="",I3=""),"",IFERROR(G3*I3,0)) | K3: =IF(OR(E3="",E3=0,F3=""),"",IFERROR(F3/E3,0)) | L3: =IF(OR(F3="",F3=0,G3=""),"",IFERROR(G3/F3,0)) | M3: =IF(F3="","",IF(F3=0,"Sem produção",IF(IFERROR(G3/F3,0)>=0.98,"Excelente",IF(IFERROR(G3/F3,0)>=0.90,"Acompanhar","Ação necessária")))) | N3: produção normal
A4: 46266 | B4: P003 | C4: =IF(B4="","",IFERROR(VLOOKUP(B4,'Cadastro de Produtos'!$A$2:$E$101,2,FALSE),"Código não cadastrado")) | D4: =IF(B4="","",IFERROR(VLOOKUP(B4,'Cadastro de Produtos'!$A$2:$E$101,3,FALSE),"")) | E4: 120 | F4: 118 | G4: 114 | H4: =IF(OR(F4="",G4=""),"",MAX(0,F4-G4)) | I4: =IF(B4="","",IFERROR(VLOOKUP(B4,'Cadastro de Produtos'!$A$2:$E$101,5,FALSE),0)) | J4: =IF(OR(G4="",I4=""),"",IFERROR(G4*I4,0)) | K4: =IF(OR(E4="",E4=0,F4=""),"",IFERROR(F4/E4,0)) | L4: =IF(OR(F4="",F4=0,G4=""),"",IFERROR(G4/F4,0)) | M4: =IF(F4="","",IF(F4=0,"Sem produção",IF(IFERROR(G4/F4,0)>=0.98,"Excelente",IF(IFERROR(G4/F4,0)>=0.90,"Acompanhar","Ação necessária")))) | N4: ajuste de embalagem
A5: 46266 | B5: P004 | C5: =IF(B5="","",IFERROR(VLOOKUP(B5,'Cadastro de Produtos'!$A$2:$E$101,2,FALSE),"Código não cadastrado")) | D5: =IF(B5="","",IFERROR(VLOOKUP(B5,'Cadastro de Produtos'!$A$2:$E$101,3,FALSE),"")) | E5: 60 | F5: 60 | G5: 59 | H5: =IF(OR(F5="",G5=""),"",MAX(0,F5-G5)) | I5: =IF(B5="","",IFERROR(VLOOKUP(B5,'Cadastro de Produtos'!$A$2:$E$101,5,FALSE),0)) | J5: =IF(OR(G5="",I5=""),"",IFERROR(G5*I5,0)) | K5: =IF(OR(E5="",E5=0,F5=""),"",IFERROR(F5/E5,0)) | L5: =IF(OR(F5="",F5=0,G5=""),"",IFERROR(G5/F5,0)) | M5: =IF(F5="","",IF(F5=0,"Sem produção",IF(IFERROR(G5/F5,0)>=0.98,"Excelente",IF(IFERROR(G5/F5,0)>=0.90,"Acompanhar","Ação necessária")))) | N5: produção normal
A6: 46267 | B6: P005 | C6: =IF(B6="","",IFERROR(VLOOKUP(B6,'Cadastro de Produtos'!$A$2:$E$101,2,FALSE),"Código não cadastrado")) | D6: =IF(B6="","",IFERROR(VLOOKUP(B6,'Cadastro de Produtos'!$A$2:$E$101,3,FALSE),"")) | E6: 75 | F6: 73 | G6: 70 | H6: =IF(OR(F6="",G6=""),"",MAX(0,F6-G6)) | I6: =IF(B6="","",IFERROR(VLOOKUP(B6,'Cadastro de Produtos'!$A$2:$E$101,5,FALSE),0)) | J6: =IF(OR(G6="",I6=""),"",IFERROR(G6*I6,0)) | K6: =IF(OR(E6="",E6=0,F6=""),"",IFERROR(F6/E6,0)) | L6: =IF(OR(F6="",F6=0,G6=""),"",IFERROR(G6/F6,0)) | M6: =IF(F6="","",IF(F6=0,"Sem produção",IF(IFERROR(G6/F6,0)>=0.98,"Excelente",IF(IFERROR(G6/F6,0)>=0.90,"Acompanhar","Ação necessária")))) | N6: demanda maior no almoço
A7: 46267 | B7: P001 | C7: =IF(B7="","",IFERROR(VLOOKUP(B7,'Cadastro de Produtos'!$A$2:$E$101,2,FALSE),"Código não cadastrado")) | D7: =IF(B7="","",IFERROR(VLOOKUP(B7,'Cadastro de Produtos'!$A$2:$E$101,3,FALSE),"")) | E7: 110 | F7: 112 | G7: 110 | H7: =IF(OR(F7="",G7=""),"",MAX(0,F7-G7)) | I7: =IF(B7="","",IFERROR(VLOOKUP(B7,'Cadastro de Produtos'!$A$2:$E$101,5,FALSE),0)) | J7: =IF(OR(G7="",I7=""),"",IFERROR(G7*I7,0)) | K7: =IF(OR(E7="",E7=0,F7=""),"",IFERROR(F7/E7,0)) | L7: =IF(OR(F7="",F7=0,G7=""),"",IFERROR(G7/F7,0)) | M7: =IF(F7="","",IF(F7=0,"Sem produção",IF(IFERROR(G7/F7,0)>=0.98,"Excelente",IF(IFERROR(G7/F7,0)>=0.90,"Acompanhar","Ação necessária")))) | N7: produção normal
A8: 46267 | B8: P003 | C8: =IF(B8="","",IFERROR(VLOOKUP(B8,'Cadastro de Produtos'!$A$2:$E$101,2,FALSE),"Código não cadastrado")) | D8: =IF(B8="","",IFERROR(VLOOKUP(B8,'Cadastro de Produtos'!$A$2:$E$101,3,FALSE),"")) | E8: 90 | F8: 88 | G8: 83 | H8: =IF(OR(F8="",G8=""),"",MAX(0,F8-G8)) | I8: =IF(B8="","",IFERROR(VLOOKUP(B8,'Cadastro de Produtos'!$A$2:$E$101,5,FALSE),0)) | J8: =IF(OR(G8="",I8=""),"",IFERROR(G8*I8,0)) | K8: =IF(OR(E8="",E8=0,F8=""),"",IFERROR(F8/E8,0)) | L8: =IF(OR(F8="",F8=0,G8=""),"",IFERROR(G8/F8,0)) | M8: =IF(F8="","",IF(F8=0,"Sem produção",IF(IFERROR(G8/F8,0)>=0.98,"Excelente",IF(IFERROR(G8/F8,0)>=0.90,"Acompanhar","Ação necessária")))) | N8: ajuste de embalagem
A9: 46268 | B9: P006 | C9: =IF(B9="","",IFERROR(VLOOKUP(B9,'Cadastro de Produtos'!$A$2:$E$101,2,FALSE),"Código não cadastrado")) | D9: =IF(B9="","",IFERROR(VLOOKUP(B9,'Cadastro de Produtos'!$A$2:$E$101,3,FALSE),"")) | E9: 80 | F9: 78 | G9: 76 | H9: =IF(OR(F9="",G9=""),"",MAX(0,F9-G9)) | I9: =IF(B9="","",IFERROR(VLOOKUP(B9,'Cadastro de Produtos'!$A$2:$E$101,5,FALSE),0)) | J9: =IF(OR(G9="",I9=""),"",IFERROR(G9*I9,0)) | K9: =IF(OR(E9="",E9=0,F9=""),"",IFERROR(F9/E9,0)) | L9: =IF(OR(F9="",F9=0,G9=""),"",IFERROR(G9/F9,0)) | M9: =IF(F9="","",IF(F9=0,"Sem produção",IF(IFERROR(G9/F9,0)>=0.98,"Excelente",IF(IFERROR(G9/F9,0)>=0.90,"Acompanhar","Ação necessária")))) | N9: produção normal
A10: 46268 | B10: P007 | C10: =IF(B10="","",IFERROR(VLOOKUP(B10,'Cadastro de Produtos'!$A$2:$E$101,2,FALSE),"Código não cadastrado")) | D10: =IF(B10="","",IFERROR(VLOOKUP(B10,'Cadastro de Produtos'!$A$2:$E$101,3,FALSE),"")) | E10: 50 | F10: 48 | G10: 43 | H10: =IF(OR(F10="",G10=""),"",MAX(0,F10-G10)) | I10: =IF(B10="","",IFERROR(VLOOKUP(B10,'Cadastro de Produtos'!$A$2:$E$101,5,FALSE),0)) | J10: =IF(OR(G10="",I10=""),"",IFERROR(G10*I10,0)) | K10: =IF(OR(E10="",E10=0,F10=""),"",IFERROR(F10/E10,0)) | L10: =IF(OR(F10="",F10=0,G10=""),"",IFERROR(G10/F10,0)) | M10: =IF(F10="","",IF(F10=0,"Sem produção",IF(IFERROR(G10/F10,0)>=0.98,"Excelente",IF(IFERROR(G10/F10,0)>=0.90,"Acompanhar","Ação necessária")))) | N10: revisar tempo de resfriamento
A11: 46270 | B11: P005 | C11: =IF(B11="","",IFERROR(VLOOKUP(B11,'Cadastro de Produtos'!$A$2:$E$101,2,FALSE),"Código não cadastrado")) | D11: =IF(B11="","",IFERROR(VLOOKUP(B11,'Cadastro de Produtos'!$A$2:$E$101,3,FALSE),"")) | E11: 65 | F11: 66 | G11: 66 | H11: =IF(OR(F11="",G11=""),"",MAX(0,F11-G11)) | I11: =IF(B11="","",IFERROR(VLOOKUP(B11,'Cadastro de Produtos'!$A$2:$E$101,5,FALSE),0)) | J11: =IF(OR(G11="",I11=""),"",IFERROR(G11*I11,0)) | K11: =IF(OR(E11="",E11=0,F11=""),"",IFERROR(F11/E11,0)) | L11: =IF(OR(F11="",F11=0,G11=""),"",IFERROR(G11/F11,0)) | M11: =IF(F11="","",IF(F11=0,"Sem produção",IF(IFERROR(G11/F11,0)>=0.98,"Excelente",IF(IFERROR(G11/F11,0)>=0.90,"Acompanhar","Ação necessária")))) | N11: produção normal
C12: =IF(B12="","",IFERROR(VLOOKUP(B12,'Cadastro de Produtos'!$A$2:$E$101,2,FALSE),"Código não cadastrado")) | D12: =IF(B12="","",IFERROR(VLOOKUP(B12,'Cadastro de Produtos'!$A$2:$E$101,3,FALSE),"")) | H12: =IF(OR(F12="",G12=""),"",MAX(0,F12-G12)) | I12: =IF(B12="","",IFERROR(VLOOKUP(B12,'Cadastro de Produtos'!$A$2:$E$101,5,FALSE),0)) | J12: =IF(OR(G12="",I12=""),"",IFERROR(G12*I12,0)) | K12: =IF(OR(E12="",E12=0,F12=""),"",IFERROR(F12/E12,0)) | L12: =IF(OR(F12="",F12=0,G12=""),"",IFERROR(G12/F12,0)) | M12: =IF(F12="","",IF(F12=0,"Sem produção",IF(IFERROR(G12/F12,0)>=0.98,"Excelente",IF(IFERROR(G12/F12,0)>=0.90,"Acompanhar","Ação necessária"))))
C13: =IF(B13="","",IFERROR(VLOOKUP(B13,'Cadastro de Produtos'!$A$2:$E$101,2,FALSE),"Código não cadastrado")) | D13: =IF(B13="","",IFERROR(VLOOKUP(B13,'Cadastro de Produtos'!$A$2:$E$101,3,FALSE),"")) | H13: =IF(OR(F13="",G13=""),"",MAX(0,F13-G13)) | I13: =IF(B13="","",IFERROR(VLOOKUP(B13,'Cadastro de Produtos'!$A$2:$E$101,5,FALSE),0)) | J13: =IF(OR(G13="",I13=""),"",IFERROR(G13*I13,0)) | K13: =IF(OR(E13="",E13=0,F13=""),"",IFERROR(F13/E13,0)) | L13: =IF(OR(F13="",F13=0,G13=""),"",IFERROR(G13/F13,0)) | M13: =IF(F13="","",IF(F13=0,"Sem produção",IF(IFERROR(G13/F13,0)>=0.98,"Excelente",IF(IFERROR(G13/F13,0)>=0.90,"Acompanhar","Ação necessária"))))
C14: =IF(B14="","",IFERROR(VLOOKUP(B14,'Cadastro de Produtos'!$A$2:$E$101,2,FALSE),"Código não cadastrado")) | D14: =IF(B14="","",IFERROR(VLOOKUP(B14,'Cadastro de Produtos'!$A$2:$E$101,3,FALSE),"")) | H14: =IF(OR(F14="",G14=""),"",MAX(0,F14-G14)) | I14: =IF(B14="","",IFERROR(VLOOKUP(B14,'Cadastro de Produtos'!$A$2:$E$101,5,FALSE),0)) | J14: =IF(OR(G14="",I14=""),"",IFERROR(G14*I14,0)) | K14: =IF(OR(E14="",E14=0,F14=""),"",IFERROR(F14/E14,0)) | L14: =IF(OR(F14="",F14=0,G14=""),"",IFERROR(G14/F14,0)) | M14: =IF(F14="","",IF(F14=0,"Sem produção",IF(IFERROR(G14/F14,0)>=0.98,"Excelente",IF(IFERROR(G14/F14,0)>=0.90,"Acompanhar","Ação necessária"))))
C15: =IF(B15="","",IFERROR(VLOOKUP(B15,'Cadastro de Produtos'!$A$2:$E$101,2,FALSE),"Código não cadastrado")) | D15: =IF(B15="","",IFERROR(VLOOKUP(B15,'Cadastro de Produtos'!$A$2:$E$101,3,FALSE),"")) | H15: =IF(OR(F15="",G15=""),"",MAX(0,F15-G15)) | I15: =IF(B15="","",IFERROR(VLOOKUP(B15,'Cadastro de Produtos'!$A$2:$E$101,5,FALSE),0)) | J15: =IF(OR(G15="",I15=""),"",IFERROR(G15*I15,0)) | K15: =IF(OR(E15="",E15=0,F15=""),"",IFERROR(F15/E15,0)) | L15: =IF(OR(F15="",F15=0,G15=""),"",IFERROR(G15/F15,0)) | M15: =IF(F15="","",IF(F15=0,"Sem produção",IF(IFERROR(G15/F15,0)>=0.98,"Excelente",IF(IFERROR(G15/F15,0)>=0.90,"Acompanhar","Ação necessária"))))
C16: =IF(B16="","",IFERROR(VLOOKUP(B16,'Cadastro de Produtos'!$A$2:$E$101,2,FALSE),"Código não cadastrado")) | D16: =IF(B16="","",IFERROR(VLOOKUP(B16,'Cadastro de Produtos'!$A$2:$E$101,3,FALSE),"")) | H16: =IF(OR(F16="",G16=""),"",MAX(0,F16-G16)) | I16: =IF(B16="","",IFERROR(VLOOKUP(B16,'Cadastro de Produtos'!$A$2:$E$101,5,FALSE),0)) | J16: =IF(OR(G16="",I16=""),"",IFERROR(G16*I16,0)) | K16: =IF(OR(E16="",E16=0,F16=""),"",IFERROR(F16/E16,0)) | L16: =IF(OR(F16="",F16=0,G16=""),"",IFERROR(G16/F16,0)) | M16: =IF(F16="","",IF(F16=0,"Sem produção",IF(IFERROR(G16/F16,0)>=0.98,"Excelente",IF(IFERROR(G16/F16,0)>=0.90,"Acompanhar","Ação necessária"))))
C17: =IF(B17="","",IFERROR(VLOOKUP(B17,'Cadastro de Produtos'!$A$2:$E$101,2,FALSE),"Código não cadastrado")) | D17: =IF(B17="","",IFERROR(VLOOKUP(B17,'Cadastro de Produtos'!$A$2:$E$101,3,FALSE),"")) | H17: =IF(OR(F17="",G17=""),"",MAX(0,F17-G17)) | I17: =IF(B17="","",IFERROR(VLOOKUP(B17,'Cadastro de Produtos'!$A$2:$E$101,5,FALSE),0)) | J17: =IF(OR(G17="",I17=""),"",IFERROR(G17*I17,0)) | K17: =IF(OR(E17="",E17=0,F17=""),"",IFERROR(F17/E17,0)) | L17: =IF(OR(F17="",F17=0,G17=""),"",IFERROR(G17/F17,0)) | M17: =IF(F17="","",IF(F17=0,"Sem produção",IF(IFERROR(G17/F17,0)>=0.98,"Excelente",IF(IFERROR(G17/F17,0)>=0.90,"Acompanhar","Ação necessária"))))
C18: =IF(B18="","",IFERROR(VLOOKUP(B18,'Cadastro de Produtos'!$A$2:$E$101,2,FALSE),"Código não cadastrado")) | D18: =IF(B18="","",IFERROR(VLOOKUP(B18,'Cadastro de Produtos'!$A$2:$E$101,3,FALSE),"")) | H18: =IF(OR(F18="",G18=""),"",MAX(0,F18-G18)) | I18: =IF(B18="","",IFERROR(VLOOKUP(B18,'Cadastro de Produtos'!$A$2:$E$101,5,FALSE),0)) | J18: =IF(OR(G18="",I18=""),"",IFERROR(G18*I18,0)) | K18: =IF(OR(E18="",E18=0,F18=""),"",IFERROR(F18/E18,0)) | L18: =IF(OR(F18="",F18=0,G18=""),"",IFERROR(G18/F18,0)) | M18: =IF(F18="","",IF(F18=0,"Sem produção",IF(IFERROR(G18/F18,0)>=0.98,"Excelente",IF(IFERROR(G18/F18,0)>=0.90,"Acompanhar","Ação necessária"))))
C19: =IF(B19="","",IFERROR(VLOOKUP(B19,'Cadastro de Produtos'!$A$2:$E$101,2,FALSE),"Código não cadastrado")) | D19: =IF(B19="","",IFERROR(VLOOKUP(B19,'Cadastro de Produtos'!$A$2:$E$101,3,FALSE),"")) | H19: =IF(OR(F19="",G19=""),"",MAX(0,F19-G19)) | I19: =IF(B19="","",IFERROR(VLOOKUP(B19,'Cadastro de Produtos'!$A$2:$E$101,5,FALSE),0)) | J19: =IF(OR(G19="",I19=""),"",IFERROR(G19*I19,0)) | K19: =IF(OR(E19="",E19=0,F19=""),"",IFERROR(F19/E19,0)) | L19: =IF(OR(F19="",F19=0,G19=""),"",IFERROR(G19/F19,0)) | M19: =IF(F19="","",IF(F19=0,"Sem produção",IF(IFERROR(G19/F19,0)>=0.98,"Excelente",IF(IFERROR(G19/F19,0)>=0.90,"Acompanhar","Ação necessária"))))
C20: =IF(B20="","",IFERROR(VLOOKUP(B20,'Cadastro de Produtos'!$A$2:$E$101,2,FALSE),"Código não cadastrado")) | D20: =IF(B20="","",IFERROR(VLOOKUP(B20,'Cadastro de Produtos'!$A$2:$E$101,3,FALSE),"")) | H20: =IF(OR(F20="",G20=""),"",MAX(0,F20-G20)) | I20: =IF(B20="","",IFERROR(VLOOKUP(B20,'Cadastro de Produtos'!$A$2:$E$101,5,FALSE),0)) | J20: =IF(OR(G20="",I20=""),"",IFERROR(G20*I20,0)) | K20: =IF(OR(E20="",E20=0,F20=""),"",IFERROR(F20/E20,0)) | L20: =IF(OR(F20="",F20=0,G20=""),"",IFERROR(G20/F20,0)) | M20: =IF(F20="","",IF(F20=0,"Sem produção",IF(IFERROR(G20/F20,0)>=0.98,"Excelente",IF(IFERROR(G20/F20,0)>=0.90,"Acompanhar","Ação necessária"))))
C21: =IF(B21="","",IFERROR(VLOOKUP(B21,'Cadastro de Produtos'!$A$2:$E$101,2,FALSE),"Código não cadastrado")) | D21: =IF(B21="","",IFERROR(VLOOKUP(B21,'Cadastro de Produtos'!$A$2:$E$101,3,FALSE),"")) | H21: =IF(OR(F21="",G21=""),"",MAX(0,F21-G21)) | I21: =IF(B21="","",IFERROR(VLOOKUP(B21,'Cadastro de Produtos'!$A$2:$E$101,5,FALSE),0)) | J21: =IF(OR(G21="",I21=""),"",IFERROR(G21*I21,0)) | K21: =IF(OR(E21="",E21=0,F21=""),"",IFERROR(F21/E21,0)) | L21: =IF(OR(F21="",F21=0,G21=""),"",IFERROR(G21/F21,0)) | M21: =IF(F21="","",IF(F21=0,"Sem produção",IF(IFERROR(G21/F21,0)>=0.98,"Excelente",IF(IFERROR(G21/F21,0)>=0.90,"Acompanhar","Ação necessária"))))
C22: =IF(B22="","",IFERROR(VLOOKUP(B22,'Cadastro de Produtos'!$A$2:$E$101,2,FALSE),"Código não cadastrado")) | D22: =IF(B22="","",IFERROR(VLOOKUP(B22,'Cadastro de Produtos'!$A$2:$E$101,3,FALSE),"")) | H22: =IF(OR(F22="",G22=""),"",MAX(0,F22-G22)) | I22: =IF(B22="","",IFERROR(VLOOKUP(B22,'Cadastro de Produtos'!$A$2:$E$101,5,FALSE),0)) | J22: =IF(OR(G22="",I22=""),"",IFERROR(G22*I22,0)) | K22: =IF(OR(E22="",E22=0,F22=""),"",IFERROR(F22/E22,0)) | L22: =IF(OR(F22="",F22=0,G22=""),"",IFERROR(G22/F22,0)) | M22: =IF(F22="","",IF(F22=0,"Sem produção",IF(IFERROR(G22/F22,0)>=0.98,"Excelente",IF(IFERROR(G22/F22,0)>=0.90,"Acompanhar","Ação necessária"))))
C23: =IF(B23="","",IFERROR(VLOOKUP(B23,'Cadastro de Produtos'!$A$2:$E$101,2,FALSE),"Código não cadastrado")) | D23: =IF(B23="","",IFERROR(VLOOKUP(B23,'Cadastro de Produtos'!$A$2:$E$101,3,FALSE),"")) | H23: =IF(OR(F23="",G23=""),"",MAX(0,F23-G23)) | I23: =IF(B23="","",IFERROR(VLOOKUP(B23,'Cadastro de Produtos'!$A$2:$E$101,5,FALSE),0)) | J23: =IF(OR(G23="",I23=""),"",IFERROR(G23*I23,0)) | K23: =IF(OR(E23="",E23=0,F23=""),"",IFERROR(F23/E23,0)) | L23: =IF(OR(F23="",F23=0,G23=""),"",IFERROR(G23/F23,0)) | M23: =IF(F23="","",IF(F23=0,"Sem produção",IF(IFERROR(G23/F23,0)>=0.98,"Excelente",IF(IFERROR(G23/F23,0)>=0.90,"Acompanhar","Ação necessária"))))
... C101: =IF(B101="","",IFERROR(VLOOKUP(B101,'Cadastro de Produtos'!$A$2:$E$101,2,FALSE),"Código não cadastrado")) | D101: =IF(B101="","",IFERROR(VLOOKUP(B101,'Cadastro de Produtos'!$A$2:$E$101,3,FALSE),"")) | H101: =IF(OR(F101="",G101=""),"",MAX(0,F101-G101)) | I101: =IF(B101="","",IFERROR(VLOOKUP(B101,'Cadastro de Produtos'!$A$2:$E$101,5,FALSE),0)) | J101: =IF(OR(G101="",I101=""),"",IFERROR(G101*I101,0)) | K101: =IF(OR(E101="",E101=0,F101=""),"",IFERROR(F101/E101,0)) | L101: =IF(OR(F101="",F101=0,G101=""),"",IFERROR(G101/F101,0)) | M101: =IF(F101="","",IF(F101=0,"Sem produção",IF(IFERROR(G101/F101,0)>=0.98,"Excelente",IF(IFERROR(G101/F101,0)>=0.90,"Acompanhar","Ação necessária"))))

Sheet Cadastro de Produtos
A1: Código | B1: Produto | C1: Unidade | D1: Categoria | E1: Custo unitário | F1: Estoque mínimo | G1: Ativo
A2: P001 | B2: Marmita executiva | C2: un | D2: Refeições | E2: 18.5 | F2: 30 | G2: Sim
A3: P002 | B3: Salada individual | C3: un | D3: Refeições leves | E3: 9.8 | F3: 25 | G3: Sim
A4: P003 | B4: Suco natural 300 ml | C4: un | D4: Bebidas | E4: 5.4 | F4: 40 | G4: Sim
A5: P004 | B5: Sobremesa caseira | C5: un | D5: Sobremesas | E5: 6.2 | F5: 20 | G5: Sim
A6: P005 | B6: Sanduíche natural | C6: un | D6: Lanches | E6: 10.5 | F6: 25 | G6: Sim
A7: P006 | B7: Pão de queijo congelado | C7: un | D7: Congelados | E7: 2.4 | F7: 60 | G7: Sim
A8: P007 | B8: Bolo de pote | C8: un | D8: Sobremesas | E8: 7.9 | F8: 30 | G8: Sim
A9: P008 | B9: Café coado 300 ml | C9: un | D9: Bebidas | E9: 3.8 | F9: 35 | G9: Sim
A10: P009 | B10: Kit café da manhã | C10: un | D10: Kits | E10: 16.9 | F10: 15 | G10: Sim
A11: P010 | B11: Quiche individual | C11: un | D11: Salgados | E11: 12.8 | F11: 20 | G11: Sim

Sheet Resumo
A1: Resumo da Produção Diária
A3: Indicador | B3: Valor
A4: Total planejado | B4: =SUM('Produção Diária'!E2:E101)
A5: Total produzido | B5: =SUM('Produção Diária'!F2:F101)
A6: Total aprovado | B6: =SUM('Produção Diária'!G2:G101)
A7: Total de perdas | B7: =SUM('Produção Diária'!H2:H101)
A8: Custo total da produção aprovada | B8: =SUM('Produção Diária'!J2:J101)
A9: Produção média por registro | B9: =IFERROR(AVERAGE('Produção Diária'!F2:F101),0)
A10: Registros com ação necessária | B10: =COUNTIF('Produção Diária'!M2:M101,"Ação necessária")
A11: Aproveitamento geral | B11: =IFERROR(SUM('Produção Diária'!G2:G101)/SUM('Produção Diária'!F2:F101),0)
A14: Código | B14: Produto | C14: Quantidade produzida | D14: Quantidade aprovada | E14: Perdas | F14: Custo total | G14: Aproveitamento
A15: P001 | B15: =IFERROR(VLOOKUP(A15,'Cadastro de Produtos'!$A$2:$E$101,2,FALSE),"") | C15: =SUMIF('Produção Diária'!$B$2:$B$101,A15,'Produção Diária'!$F$2:$F$101) | D15: =SUMIF('Produção Diária'!$B$2:$B$101,A15,'Produção Diária'!$G$2:$G$101) | E15: =SUMIF('Produção Diária'!$B$2:$B$101,A15,'Produção Diária'!$H$2:$H$101) | F15: =SUMIF('Produção Diária'!$B$2:$B$101,A15,'Produção Diária'!$J$2:$J$101) | G15: =IFERROR(D15/C15,0)
A16: P002 | B16: =IFERROR(VLOOKUP(A16,'Cadastro de Produtos'!$A$2:$E$101,2,FALSE),"") | C16: =SUMIF('Produção Diária'!$B$2:$B$101,A16,'Produção Diária'!$F$2:$F$101) | D16: =SUMIF('Produção Diária'!$B$2:$B$101,A16,'Produção Diária'!$G$2:$G$101) | E16: =SUMIF('Produção Diária'!$B$2:$B$101,A16,'Produção Diária'!$H$2:$H$101) | F16: =SUMIF('Produção Diária'!$B$2:$B$101,A16,'Produção Diária'!$J$2:$J$101) | G16: =IFERROR(D16/C16,0)
A17: P003 | B17: =IFERROR(VLOOKUP(A17,'Cadastro de Produtos'!$A$2:$E$101,2,FALSE),"") | C17: =SUMIF('Produção Diária'!$B$2:$B$101,A17,'Produção Diária'!$F$2:$F$101) | D17: =SUMIF('Produção Diária'!$B$2:$B$101,A17,'Produção Diária'!$G$2:$G$101) | E17: =SUMIF('Produção Diária'!$B$2:$B$101,A17,'Produção Diária'!$H$2:$H$101) | F17: =SUMIF('Produção Diária'!$B$2:$B$101,A17,'Produção Diária'!$J$2:$J$101) | G17: =IFERROR(D17/C17,0)
A18: P004 | B18: =IFERROR(VLOOKUP(A18,'Cadastro de Produtos'!$A$2:$E$101,2,FALSE),"") | C18: =SUMIF('Produção Diária'!$B$2:$B$101,A18,'Produção Diária'!$F$2:$F$101) | D18: =SUMIF('Produção Diária'!$B$2:$B$101,A18,'Produção Diária'!$G$2:$G$101) | E18: =SUMIF('Produção Diária'!$B$2:$B$101,A18,'Produção Diária'!$H$2:$H$101) | F18: =SUMIF('Produção Diária'!$B$2:$B$101,A18,'Produção Diária'!$J$2:$J$101) | G18: =IFERROR(D18/C18,0)
A19: P005 | B19: =IFERROR(VLOOKUP(A19,'Cadastro de Produtos'!$A$2:$E$101,2,FALSE),"") | C19: =SUMIF('Produção Diária'!$B$2:$B$101,A19,'Produção Diária'!$F$2:$F$101) | D19: =SUMIF('Produção Diária'!$B$2:$B$101,A19,'Produção Diária'!$G$2:$G$101) | E19: =SUMIF('Produção Diária'!$B$2:$B$101,A19,'Produção Diária'!$H$2:$H$101) | F19: =SUMIF('Produção Diária'!$B$2:$B$101,A19,'Produção Diária'!$J$2:$J$101) | G19: =IFERROR(D19/C19,0)
A20: P006 | B20: =IFERROR(VLOOKUP(A20,'Cadastro de Produtos'!$A$2:$E$101,2,FALSE),"") | C20: =SUMIF('Produção Diária'!$B$2:$B$101,A20,'Produção Diária'!$F$2:$F$101) | D20: =SUMIF('Produção Diária'!$B$2:$B$101,A20,'Produção Diária'!$G$2:$G$101) | E20: =SUMIF('Produção Diária'!$B$2:$B$101,A20,'Produção Diária'!$H$2:$H$101) | F20: =SUMIF('Produção Diária'!$B$2:$B$101,A20,'Produção Diária'!$J$2:$J$101) | G20: =IFERROR(D20/C20,0)
A21: P007 | B21: =IFERROR(VLOOKUP(A21,'Cadastro de Produtos'!$A$2:$E$101,2,FALSE),"") | C21: =SUMIF('Produção Diária'!$B$2:$B$101,A21,'Produção Diária'!$F$2:$F$101) | D21: =SUMIF('Produção Diária'!$B$2:$B$101,A21,'Produção Diária'!$G$2:$G$101) | E21: =SUMIF('Produção Diária'!$B$2:$B$101,A21,'Produção Diária'!$H$2:$H$101) | F21: =SUMIF('Produção Diária'!$B$2:$B$101,A21,'Produção Diária'!$J$2:$J$101) | G21: =IFERROR(D21/C21,0)
A22: P008 | B22: =IFERROR(VLOOKUP(A22,'Cadastro de Produtos'!$A$2:$E$101,2,FALSE),"") | C22: =SUMIF('Produção Diária'!$B$2:$B$101,A22,'Produção Diária'!$F$2:$F$101) | D22: =SUMIF('Produção Diária'!$B$2:$B$101,A22,'Produção Diária'!$G$2:$G$101) | E22: =SUMIF('Produção Diária'!$B$2:$B$101,A22,'Produção Diária'!$H$2:$H$101) | F22: =SUMIF('Produção Diária'!$B$2:$B$101,A22,'Produção Diária'!$J$2:$J$101) | G22: =IFERROR(D22/C22,0)
A23: P009 | B23: =IFERROR(VLOOKUP(A23,'Cadastro de Produtos'!$A$2:$E$101,2,FALSE),"") | C23: =SUMIF('Produção Diária'!$B$2:$B$101,A23,'Produção Diária'!$F$2:$F$101) | D23: =SUMIF('Produção Diária'!$B$2:$B$101,A23,'Produção Diária'!$G$2:$G$101) | E23: =SUMIF('Produção Diária'!$B$2:$B$101,A23,'Produção Diária'!$H$2:$H$101) | F23: =SUMIF('Produção Diária'!$B$2:$B$101,A23,'Produção Diária'!$J$2:$J$101) | G23: =IFERROR(D23/C23,0)
A24: P010 | B24: =IFERROR(VLOOKUP(A24,'Cadastro de Produtos'!$A$2:$E$101,2,FALSE),"") | C24: =SUMIF('Produção Diária'!$B$2:$B$101,A24,'Produção Diária'!$F$2:$F$101) | D24: =SUMIF('Produção Diária'!$B$2:$B$101,A24,'Produção Diária'!$G$2:$G$101) | E24: =SUMIF('Produção Diária'!$B$2:$B$101,A24,'Produção Diária'!$H$2:$H$101) | F24: =SUMIF('Produção Diária'!$B$2:$B$101,A24,'Produção Diária'!$J$2:$J$101) | G24: =IFERROR(D24/C24,0)
